BEGIN:VCALENDAR
VERSION:2.0
PRODID:-//Socialist Project - ECPv6.15.20//NONSGML v1.0//EN
CALSCALE:GREGORIAN
METHOD:PUBLISH
X-ORIGINAL-URL:https://socialistproject.ca
X-WR-CALDESC:Events for Socialist Project
REFRESH-INTERVAL;VALUE=DURATION:PT1H
X-Robots-Tag:noindex
X-PUBLISHED-TTL:PT1H
BEGIN:VTIMEZONE
TZID:America/Toronto
BEGIN:DAYLIGHT
TZOFFSETFROM:-0500
TZOFFSETTO:-0400
TZNAME:EDT
DTSTART:20230312T070000
END:DAYLIGHT
BEGIN:STANDARD
TZOFFSETFROM:-0400
TZOFFSETTO:-0500
TZNAME:EST
DTSTART:20231105T060000
END:STANDARD
BEGIN:DAYLIGHT
TZOFFSETFROM:-0500
TZOFFSETTO:-0400
TZNAME:EDT
DTSTART:20240310T070000
END:DAYLIGHT
BEGIN:STANDARD
TZOFFSETFROM:-0400
TZOFFSETTO:-0500
TZNAME:EST
DTSTART:20241103T060000
END:STANDARD
BEGIN:DAYLIGHT
TZOFFSETFROM:-0500
TZOFFSETTO:-0400
TZNAME:EDT
DTSTART:20250309T070000
END:DAYLIGHT
BEGIN:STANDARD
TZOFFSETFROM:-0400
TZOFFSETTO:-0500
TZNAME:EST
DTSTART:20251102T060000
END:STANDARD
END:VTIMEZONE
BEGIN:VEVENT
DTSTART;TZID=America/Toronto:20241102T100000
DTEND;TZID=America/Toronto:20241103T160000
DTSTAMP:20260421T142748
CREATED:20240913T200031Z
LAST-MODIFIED:20240924T114730Z
UID:15699-1730541600-1730649600@socialistproject.ca
SUMMARY:How to Unionize Your Workplace
DESCRIPTION:Having problems at work and are not sure what to do? Have you heard about unions and want to know how to get started? Do you lack the confidence to talk to your coworkers about forming a union? If you answered yes to any of these questions\, then the How to Unionize Your Workplace course is for you! \nOver two days participants will learn what it takes to go from zero organization at work to a functioning committee of coworkers that can take on the boss and win! Together we will learn and practice the ideas\, methods\, and skills necessary to build power at work. The course will also feature a general discussion of unions: strengths and weaknesses\, potential and limits\, and why organizing at work should still matter for those who want a better world. \nWhen: November 2-3 (mid-morning until late afternoon)\nBreakfast and lunch to be provided.\nWhere: Toronto\, ON (Downtown – venue TBA)\nHow much: free/PWYC\nWho: Anyone curious about how to organize at work! \nRegistration deadline: Friday October 4. \nPlease note that we are currently asking potential participants to register their interest. Space for this pilot version of the course will be limited and selections may be made to ensure a diversity of backgrounds and experience. \nIf you have questions or you’re unsure if this course is right for you\, we’d be happy to answer any questions via info@leopanitchschool.ca
URL:https://socialistproject.ca/event/how-to-unionize-your-workplace/
LOCATION:ON
ATTACH;FMTTYPE=image/jpeg:https://socialistproject.ca/content/uploads/2024/09/oyw.jpg
END:VEVENT
END:VCALENDAR