BEGIN:VCALENDAR
VERSION:2.0
PRODID:-//Socialist Project - ECPv6.15.20//NONSGML v1.0//EN
CALSCALE:GREGORIAN
METHOD:PUBLISH
X-ORIGINAL-URL:https://socialistproject.ca
X-WR-CALDESC:Events for Socialist Project
REFRESH-INTERVAL;VALUE=DURATION:PT1H
X-Robots-Tag:noindex
X-PUBLISHED-TTL:PT1H
BEGIN:VTIMEZONE
TZID:America/Toronto
BEGIN:DAYLIGHT
TZOFFSETFROM:-0500
TZOFFSETTO:-0400
TZNAME:EDT
DTSTART:20230312T070000
END:DAYLIGHT
BEGIN:STANDARD
TZOFFSETFROM:-0400
TZOFFSETTO:-0500
TZNAME:EST
DTSTART:20231105T060000
END:STANDARD
BEGIN:DAYLIGHT
TZOFFSETFROM:-0500
TZOFFSETTO:-0400
TZNAME:EDT
DTSTART:20240310T070000
END:DAYLIGHT
BEGIN:STANDARD
TZOFFSETFROM:-0400
TZOFFSETTO:-0500
TZNAME:EST
DTSTART:20241103T060000
END:STANDARD
BEGIN:DAYLIGHT
TZOFFSETFROM:-0500
TZOFFSETTO:-0400
TZNAME:EDT
DTSTART:20250309T070000
END:DAYLIGHT
BEGIN:STANDARD
TZOFFSETFROM:-0400
TZOFFSETTO:-0500
TZNAME:EST
DTSTART:20251102T060000
END:STANDARD
END:VTIMEZONE
BEGIN:VEVENT
DTSTART;TZID=America/Toronto:20240704T190000
DTEND;TZID=America/Toronto:20240704T210000
DTSTAMP:20260421T204250
CREATED:20240621T180007Z
LAST-MODIFIED:20240621T181643Z
UID:14909-1720119600-1720126800@socialistproject.ca
SUMMARY:From Genocide in Gaza to Decolonizing Palestine
DESCRIPTION:Toward A Democratic State For All Between the River And The Sea \nJULY 4\, 7PM\nFRIENDS’ HOUSE\, 60 LOWTHER AVE.\nAlso on zoom! \nWhile our attention and hearts are focused on Gaza\, civil society cannot abandon the wider fight for Palestinian rights and a better future for everyone between the River and the Sea. \nJeff Halper is a Jewish Israeli-American peace activist and author\, co-founder of the Israeli Committee Against House Demolitions\, and a founding member of the Palestinian-led One Democratic State Campaign. \nSPONSORS:\nScience for Peace\, Socialist Project\, Canadian Voice of Women for Peace. \nENDORSERS:\nIndependent Jewish Voices\, Jewish Faculty Network\, United Jewish Peoples’ Order\, Action for Palestine\, Canada Palestine Mental Health Network\, Palestine Network – Shining Waters Region (United Church of Canada). \nREGISTER: Zoom | In person.
URL:https://socialistproject.ca/event/from-genocide-in-gaza-to-decolonizing-palestine/
LOCATION:Friends House\, 60 Lowther Avenue\, Toronto\, Ontario\, M5R 1C7\, Canada
ATTACH;FMTTYPE=image/jpeg:https://socialistproject.ca/content/uploads/2024/06/HalperToronto-w-e1723326208816.jpg
END:VEVENT
END:VCALENDAR