BEGIN:VCALENDAR
VERSION:2.0
PRODID:-//Socialist Project - ECPv6.15.20//NONSGML v1.0//EN
CALSCALE:GREGORIAN
METHOD:PUBLISH
X-ORIGINAL-URL:https://socialistproject.ca
X-WR-CALDESC:Events for Socialist Project
REFRESH-INTERVAL;VALUE=DURATION:PT1H
X-Robots-Tag:noindex
X-PUBLISHED-TTL:PT1H
BEGIN:VTIMEZONE
TZID:America/Toronto
BEGIN:DAYLIGHT
TZOFFSETFROM:-0500
TZOFFSETTO:-0400
TZNAME:EDT
DTSTART:20230312T070000
END:DAYLIGHT
BEGIN:STANDARD
TZOFFSETFROM:-0400
TZOFFSETTO:-0500
TZNAME:EST
DTSTART:20231105T060000
END:STANDARD
BEGIN:DAYLIGHT
TZOFFSETFROM:-0500
TZOFFSETTO:-0400
TZNAME:EDT
DTSTART:20240310T070000
END:DAYLIGHT
BEGIN:STANDARD
TZOFFSETFROM:-0400
TZOFFSETTO:-0500
TZNAME:EST
DTSTART:20241103T060000
END:STANDARD
BEGIN:DAYLIGHT
TZOFFSETFROM:-0500
TZOFFSETTO:-0400
TZNAME:EDT
DTSTART:20250309T070000
END:DAYLIGHT
BEGIN:STANDARD
TZOFFSETFROM:-0400
TZOFFSETTO:-0500
TZNAME:EST
DTSTART:20251102T060000
END:STANDARD
END:VTIMEZONE
BEGIN:VEVENT
DTSTART;TZID=America/Toronto:20240530T120000
DTEND;TZID=America/Toronto:20240530T140000
DTSTAMP:20260422T001607
CREATED:20240512T160020Z
LAST-MODIFIED:20240512T163035Z
UID:4515-1717070400-1717077600@socialistproject.ca
SUMMARY:Stop the Privatization of Our Healthcare
DESCRIPTION:Tell the Ford government to stop the privatization of our healthcare \nThe goal is to hold a very large protest and march in Toronto starting at Nathan Phillips Square and going to the Ontario Legislature which will be in session with Members of Provincial Parliament there from across Ontario. For those regions that are too far to bus in to Toronto to join the event culminating at the Ontario Legislature\, there will be a few large regional events as follows. \nGather at noon at the south side of Nathan Phillips Square across from the Sheraton\, 123 Queen St. W. We will march to the Ontario Legislature at Queen’s Park.
URL:https://socialistproject.ca/event/online-global-assembly/
LOCATION:ON
ATTACH;FMTTYPE=image/jpeg:https://socialistproject.ca/content/uploads/2024/05/fight-on.jpg
END:VEVENT
END:VCALENDAR